BEGIN:VCALENDAR
VERSION:2.0
PRODID:spatie/icalendar-generator
DESCRIPTION:Evenementen van jorinamuziek
X-WR-CALDESC:Evenementen van jorinamuziek
REFRESH-INTERVAL;VALUE=DURATION:PT1440M
X-PUBLISHED-TTL:PT1440M
BEGIN:VTIMEZONE
TZID:Etc/GMT+0
BEGIN:STANDARD
DTSTART:20250117T200000Z
TZOFFSETFROM:+0000
TZOFFSETTO:+0000
END:STANDARD
END:VTIMEZONE
BEGIN:VTIMEZONE
TZID:UTC
BEGIN:STANDARD
DTSTART:20250724T111312Z
TZOFFSETFROM:+0000
TZOFFSETTO:+0000
END:STANDARD
END:VTIMEZONE
BEGIN:VEVENT
UID:145-5
DTSTAMP:20260420T111312Z
SUMMARY:open repetitie Voces del Mundo in Amare
LOCATION:
ORGANIZER;CN=admin:MAILTO:jorinamuziek@gmail.com
DTSTART;TZID=Etc/GMT+0:20251014T200000
DTEND;TZID=Etc/GMT+0:20251014T214500
X-ALT-DESC;FMTTYPE=TEXT/HTML:
CATEGORIES:General
URL;VALUE=URI:http://jorinamuziek.nl/mc-events/open-repetitie-voces-del-mun
 do-in-amare/
METHOD:PUBLISH
END:VEVENT
END:VCALENDAR