BEGIN:VCALENDAR
VERSION:2.0
PRODID:spatie/icalendar-generator
DESCRIPTION:Evenementen van jorinamuziek
X-WR-CALDESC:Evenementen van jorinamuziek
REFRESH-INTERVAL;VALUE=DURATION:PT1440M
X-PUBLISHED-TTL:PT1440M
BEGIN:VTIMEZONE
TZID:Etc/GMT+0
BEGIN:STANDARD
DTSTART:20250204T200000Z
TZOFFSETFROM:+0000
TZOFFSETTO:+0000
END:STANDARD
END:VTIMEZONE
BEGIN:VTIMEZONE
TZID:UTC
BEGIN:STANDARD
DTSTART:20250723T204323Z
TZOFFSETFROM:+0000
TZOFFSETTO:+0000
END:STANDARD
END:VTIMEZONE
BEGIN:VEVENT
UID:366-49
DTSTAMP:20260419T204323Z
SUMMARY:Concert Pur Sang Plus
LOCATION:Vrije School Widar De Meesterstraat 2  Delft
ORGANIZER;CN=admin:MAILTO:jorinamuziek@gmail.com
DTSTART;TZID=Etc/GMT+0:20251101T200000
DTEND;TZID=Etc/GMT+0:20251101T213000
X-ALT-DESC;FMTTYPE=TEXT/HTML:Trio klarinet\, viool/altviool\, piano
CATEGORIES:General
URL;VALUE=URI:http://jorinamuziek.nl/mc-events/concert-pur-sang-plus/
METHOD:PUBLISH
END:VEVENT
END:VCALENDAR