BEGIN:VCALENDAR
VERSION:2.0
PRODID:spatie/icalendar-generator
DESCRIPTION:Evenementen van jorinamuziek
X-WR-CALDESC:Evenementen van jorinamuziek
REFRESH-INTERVAL;VALUE=DURATION:PT1440M
X-PUBLISHED-TTL:PT1440M
BEGIN:VTIMEZONE
TZID:Etc/GMT+0
BEGIN:STANDARD
DTSTART:20250110T200000Z
TZOFFSETFROM:+0000
TZOFFSETTO:+0000
END:STANDARD
END:VTIMEZONE
BEGIN:VTIMEZONE
TZID:UTC
BEGIN:STANDARD
DTSTART:20250724T134144Z
TZOFFSETFROM:+0000
TZOFFSETTO:+0000
END:STANDARD
END:VTIMEZONE
BEGIN:VEVENT
UID:341-2
DTSTAMP:20260420T134144Z
SUMMARY:repetitie Voces del Mundo
LOCATION:
ORGANIZER;CN=admin:MAILTO:jorinamuziek@gmail.com
RRULE:FREQ=WEEKLY;UNTIL=20251008T000000Z
DTSTART;TZID=Etc/GMT+0:20251007T200000
DTEND;TZID=Etc/GMT+0:20251007T214500
X-ALT-DESC;FMTTYPE=TEXT/HTML:
CATEGORIES:General
URL;VALUE=URI:http://jorinamuziek.nl/mc-events/repetitie-voces-del-mundo/?m
 c_id=341
METHOD:PUBLISH
END:VEVENT
END:VCALENDAR