BEGIN:VCALENDAR
VERSION:2.0
PRODID:spatie/icalendar-generator
DESCRIPTION:Evenementen van jorinamuziek
X-WR-CALDESC:Evenementen van jorinamuziek
REFRESH-INTERVAL;VALUE=DURATION:PT1440M
X-PUBLISHED-TTL:PT1440M
BEGIN:VTIMEZONE
TZID:Etc/GMT+0
BEGIN:STANDARD
DTSTART:20241206T100000Z
TZOFFSETFROM:+0000
TZOFFSETTO:+0000
END:STANDARD
END:VTIMEZONE
BEGIN:VTIMEZONE
TZID:UTC
BEGIN:STANDARD
DTSTART:20250724T201255Z
TZOFFSETFROM:+0000
TZOFFSETTO:+0000
END:STANDARD
END:VTIMEZONE
BEGIN:VEVENT
UID:319-3
DTSTAMP:20260420T201255Z
SUMMARY:repetitie Binnenstadskoor Delft
LOCATION:
ORGANIZER;CN=admin:MAILTO:jorinamuziek@gmail.com
RRULE:FREQ=WEEKLY;UNTIL=20251001T000000Z
DTSTART;TZID=Etc/GMT+0:20250902T100000
DTEND;TZID=Etc/GMT+0:20250902T120000
X-ALT-DESC;FMTTYPE=TEXT/HTML:
CATEGORIES:General
URL;VALUE=URI:http://jorinamuziek.nl/mc-events/repetitie-binnenstadskoor-de
 lft/?mc_id=319
METHOD:PUBLISH
END:VEVENT
END:VCALENDAR