BEGIN:VCALENDAR
VERSION:2.0
PRODID:spatie/icalendar-generator
DESCRIPTION:Evenementen van jorinamuziek
X-WR-CALDESC:Evenementen van jorinamuziek
REFRESH-INTERVAL;VALUE=DURATION:PT1440M
X-PUBLISHED-TTL:PT1440M
BEGIN:VTIMEZONE
TZID:Etc/GMT+0
BEGIN:STANDARD
DTSTART:20241208T100000Z
TZOFFSETFROM:+0000
TZOFFSETTO:+0000
END:STANDARD
END:VTIMEZONE
BEGIN:VTIMEZONE
TZID:UTC
BEGIN:STANDARD
DTSTART:20250726T111201Z
TZOFFSETFROM:+0000
TZOFFSETTO:+0000
END:STANDARD
END:VTIMEZONE
BEGIN:VEVENT
UID:267-9
DTSTAMP:20260422T111201Z
SUMMARY:Dansend de Wereld Rond
LOCATION:Wijkpaleis Weimar
ORGANIZER;CN=admin:MAILTO:jorinamuziek@gmail.com
DTSTART;TZID=Etc/GMT+0:20250904T100000
DTEND;TZID=Etc/GMT+0:20250904T120000
X-ALT-DESC;FMTTYPE=TEXT/HTML:
CATEGORIES:General
URL;VALUE=URI:http://jorinamuziek.nl/mc-events/dansend-de-wereld-rond/
METHOD:PUBLISH
END:VEVENT
END:VCALENDAR